BEGIN:VCALENDAR
PRODID:NingEventWidget-v1
VERSION:2.0
METHOD:PUBLISH
BEGIN:VEVENT
UID:2323372:Event:173550
DTSTAMP:20260421T065437Z
SUMMARY:Inspiring Minds August week 4
DESCRIPTION:A series of free children and family craft workshops.\n\nF
 or more information visit http://www.goldenlaneestate.org/events/inspi
 ring-minds-august-week-4
DTSTART:20230821T090000Z
DTEND:20230825T120000Z
CATEGORIES:craft, workshops
LOCATION:Golden Lane Community Centre
WEBSITE:https://www.eventbrite.co.uk/e/inspiring-minds-week-4-tickets-
 579044366287
URL:https://www.eventbrite.co.uk/e/inspiring-minds-week-4-tickets-5790
 44366287
CONTACT:
ORGANIZER;CN="Learning Through the Arts":http://www.goldenlaneestate.o
 rg/profile/AdemolaAdeniji
ATTACH;FMTTYPE="image/jpeg":https://storage.ning.com/topology/rest/1.0
 /file/get/12148333657?profile=original
ATTENDEE;ROLE=REQ-PARTICIPANT;PARTSTAT=ACCEPTED;RSVP=TRUE;CN="Learning
  Through the Arts":http://www.goldenlaneestate.org/profile/AdemolaAden
 iji
END:VEVENT
END:VCALENDAR
