BEGIN:VCALENDAR
PRODID:NingEventWidget-v1
VERSION:2.0
METHOD:PUBLISH
BEGIN:VEVENT
UID:2323372:Event:173045
DTSTAMP:20260421T102759Z
SUMMARY:Inspiring Minds
DESCRIPTION:We are looking forward to welcoming you and your children 
 during May half-term art and craft workshops. These sessions will expl
 ore the theme of Nature and Environment using recycled materials.\nBoo
 k you place through the link in the details.\n\n\nFor more information
  visit http://www.goldenlaneestate.org/events/inspiring-minds
DTSTART:20230530T090000Z
DTEND:20230602T123000Z
CATEGORIES:art, "&amp", crafts, workshops
LOCATION:Golden Lane Community Center
WEBSITE:https://www.eventbrite.co.uk/e/inspiring-minds-may-half-term-f
 amily-workshops-tickets-514188731337
URL:https://www.eventbrite.co.uk/e/inspiring-minds-may-half-term-famil
 y-workshops-tickets-514188731337
CONTACT:07510917517
ORGANIZER;CN="Learning Through the Arts":http://www.goldenlaneestate.o
 rg/profile/AdemolaAdeniji
ATTACH;FMTTYPE="image/jpeg":https://storage.ning.com/topology/rest/1.0
 /file/get/11073556458?profile=original
ATTENDEE;ROLE=REQ-PARTICIPANT;PARTSTAT=ACCEPTED;RSVP=TRUE;CN="Learning
  Through the Arts":http://www.goldenlaneestate.org/profile/AdemolaAden
 iji
END:VEVENT
END:VCALENDAR
