BEGIN:VCALENDAR
PRODID:NingEventWidget-v1
VERSION:2.0
METHOD:PUBLISH
BEGIN:VEVENT
UID:2323372:Event:174105
DTSTAMP:20260423T124342Z
SUMMARY:Introducing the Huntley Collection - a free lunch time talk
DESCRIPTION:Join Tom Furber for a free lunch time talk in Barbican Lib
 rary!In this talk Tom introduces the Huntley Collection. Named after t
 he radical book publishers and pioneering Black political activists Er
 ic and Jessica Huntley The collection charts their prolifically involv
 ement with the British African - Caribbean community's experience from
  their first arrival in England in 1956 to the twenty-first century.Da
 te and Time: Tuesday, 17 October 2023 12:30-13:30Location: Barbican Li
 braryTickets available via Eventbrite: https://www.eventbrite.co.uk/e
 /717176402927\n\nFor more information visit http://www.goldenlaneestat
 e.org/events/introducing-the-huntley-collection-a-free-lunch-time-talk
DTSTART:20231017T113000Z
DTEND:20231017T123000Z
CATEGORIES:talk
LOCATION:Barbican Library
WEBSITE:https://www.eventbrite.co.uk/e/717176402927
URL:https://www.eventbrite.co.uk/e/717176402927
CONTACT:02076380569
ORGANIZER;CN="Yuriko Nakano":http://www.goldenlaneestate.org/profile/Y
 urikoNakano
ATTACH;FMTTYPE="image/jpeg":
ATTENDEE;ROLE=REQ-PARTICIPANT;PARTSTAT=ACCEPTED;RSVP=TRUE;CN="Yuriko N
 akano":http://www.goldenlaneestate.org/profile/YurikoNakano
END:VEVENT
END:VCALENDAR
