BEGIN:VCALENDAR
PRODID:NingEventWidget-v1
VERSION:2.0
METHOD:PUBLISH
BEGIN:VEVENT
UID:2323372:Event:173284
DTSTAMP:20260419T170114Z
SUMMARY:Let's talk about Repairs...
DESCRIPTION:\r\n\r\nMore info on the GLERA website\r\n\n\nFor more inf
 ormation visit http://www.goldenlaneestate.org/events/let-s-talk-about
 -repairs
DTSTART:20230524T173000Z
DTEND:20230524T190000Z
CATEGORIES:meeeting
LOCATION:Sir Ralph Perring Centre
WEBSITE:https://glera.co.uk/2023/05/18/lets-talk-about-repairs-24-05-2
 023/
URL:https://glera.co.uk/2023/05/18/lets-talk-about-repairs-24-05-2023/
CONTACT:
ORGANIZER:GLERA
ATTACH;FMTTYPE="image/jpeg":https://storage.ning.com/topology/rest/1.0
 /file/get/11129229300?profile=original
ATTENDEE;ROLE=REQ-PARTICIPANT;PARTSTAT=ACCEPTED;RSVP=TRUE;CN="GLE Webs
 ite Comms Team":http://www.goldenlaneestate.org/profile/GLEComms
END:VEVENT
END:VCALENDAR
