BEGIN:VCALENDAR
PRODID:NingEventWidget-v1
VERSION:2.0
METHOD:PUBLISH
BEGIN:VEVENT
UID:2323372:Event:69702
DTSTAMP:20260421T184140Z
SUMMARY:London Handel Players at the Charterhouse
DESCRIPTION:The first in a series of concerts by the acclaimed baroque
  ensemble London Handel Players, contrasting Handel with his great con
 temporaries, and inspired by the glorious Great Chamber at the Charter
 house. This month Handel and Corelli. NB there are two 1 hour concerts
  at 2.30pm and 4.00pm. Tickets £20\n\nFor more information visit http
 ://www.goldenlaneestate.org/events/london-handel-players-at-the-charte
 rhouse
DTSTART:20190224T143000Z
DTEND:20190224T153000Z
CATEGORIES:baroque, concert
LOCATION:The Charterhouse
WEBSITE:http://www.thecharterhouse.org/visit-us/whats-on/
URL:http://www.thecharterhouse.org/visit-us/whats-on/
CONTACT:02038188873
ORGANIZER;CN="Charlotte Borger":http://www.goldenlaneestate.org/profil
 e/CharlotteBorger
ATTACH;FMTTYPE="image/jpeg":https://storage.ning.com/topology/rest/1.0
 /file/get/638385058?profile=original
ATTENDEE;ROLE=REQ-PARTICIPANT;PARTSTAT=ACCEPTED;RSVP=TRUE;CN="Charlott
 e Borger":http://www.goldenlaneestate.org/profile/CharlotteBorger
END:VEVENT
END:VCALENDAR
