BEGIN:VCALENDAR
PRODID:NingEventWidget-v1
VERSION:2.0
METHOD:PUBLISH
BEGIN:VEVENT
UID:2323372:Event:173528
DTSTAMP:20260421T013008Z
SUMMARY:London Talks: ‘How Can We Build with Care?
DESCRIPTION:London is home to a vast array of buildings, from 3.7m res
 idential housing units to cultural, historic and commercial properties
 . This building stock is among the oldest in the world, and as a resul
 t, often fails to meet our needs, for example in public health or envi
 ronmental demands.\r\nThe tragic death of Awaab Ishak put a spotlight 
 on problems around condensation, which affect 450,000 homes in England
 . The UK’s built environment is responsible for 25% of its greenhous
 e gas emissions. These problems are in urgent need of addressing – w
 e know there are architectural, technical, social and policy solutions
 .\r\nBuilding, maintaining and demolishing buildings is responsible fo
 r more emissions than aviation and shipping combined. Any strategy to 
 improve the quality of London’s building stock must therefore take a
  retrofit-first approach.\r\n\r\n• Rachel Blake (Chair), Prospective
  Parliamentary Candidate: Cities of London & Westminster\r\n• Estell
 e Dehon KC, Barrister at Cornerstone Barristers\r\n• Wil Hurst, Mana
 ging Editor at the Architects’ Journal\r\n• Tania Jennings, Net Ze
 ro Carbon Manager at Lewisham Council\r\n• Smith Mordak, Chief Execu
 tive of UK Green Building Council\r\n• Andrew Waugh, Founding Direct
 or of Waugh Thistleton Architects\r\n• plus special guests\r\n\r\nBo
 ok tickets on eventbrite\n\nFor more information visit http://www.gold
 enlaneestate.org/events/london-talks-how-can-we-build-with-care
DTSTART:20230628T180000Z
DTEND:20230628T200000Z
CATEGORIES:talk
LOCATION:The Abbey Centre
WEBSITE:https://www.eventbrite.co.uk/e/london-talks-how-can-we-build-w
 ith-care-tickets-652031893947
URL:https://www.eventbrite.co.uk/e/london-talks-how-can-we-build-with-
 care-tickets-652031893947
CONTACT:
ORGANIZER:Labour - Cities of London and Westminster
ATTACH;FMTTYPE="image/jpeg":
ATTENDEE;ROLE=REQ-PARTICIPANT;PARTSTAT=ACCEPTED;RSVP=TRUE;CN="GLE Webs
 ite Comms Team":http://www.goldenlaneestate.org/profile/GLEComms
END:VEVENT
END:VCALENDAR
