BEGIN:VCALENDAR
PRODID:NingEventWidget-v1
VERSION:2.0
METHOD:PUBLISH
BEGIN:VEVENT
UID:2323372:Event:67612
DTSTAMP:20260422T224037Z
SUMMARY:LSO Community Choir Concert: Reflections
DESCRIPTION:LSO Discovery\r\nThe LSO Community Choir invites you to an
  evening of reminiscnence, recollection and remembrance, with music ac
 companied by LSO musicians, including Vaughan Williams' poignant Dirg
 e for Two Veterans, Sarah Quartel's beautiful I Remember, and the pre
 miere of a new commission from LSO Panufnik composer Grace-Evangeline 
 Mason.\r\n\r\n\r\nDavid Lawrence conductor LSO Community Chorus LSO M
 usicians\r\n\r\n\r\nBOOK HERE\r\n\r\n\r\n\r\n£7, £5 under-18s\r\n\r\
 n\r\n£0.60 online booking fee, £0.70 telephone booking fee per trans
 action - click here for more information on booking fees\r\n\r\n\r\n\
 r\n\r\nPlease note that finish times are approximate and subject to ch
 ange.\r\n\r\n\r\n\r\n\r\n\r\nGenerously supported by the Garfield Wes
 ton Foundation and John S Cohen Foundation\r\n\r\nIf you're work or 
 live around the EC1 area and are interested in joining the LSO Communi
 ty Choir you can find more information here.\r\n\n\nFor more informati
 on visit http://www.goldenlaneestate.org/events/lso-community-choir-co
 ncert-reflections
DTSTART:20181116T193000Z
DTEND:20181116T203000Z
CATEGORIES:concert
LOCATION:LSO St Lukes
WEBSITE:https://lso.co.uk/whats-on
URL:https://lso.co.uk/whats-on
CONTACT:
ORGANIZER:
ATTACH;FMTTYPE="image/jpeg":http://storage.ning.com/topology/rest/1.0/
 file/get/2571587141?profile=original
ATTENDEE;ROLE=REQ-PARTICIPANT;PARTSTAT=ACCEPTED;RSVP=TRUE;CN="GLE Webs
 ite Comms Team":http://www.goldenlaneestate.org/profile/GLEComms
END:VEVENT
END:VCALENDAR
