BEGIN:VCALENDAR
PRODID:NingEventWidget-v1
VERSION:2.0
METHOD:PUBLISH
BEGIN:VEVENT
UID:2323372:Event:67705
DTSTAMP:20260422T222349Z
SUMMARY:LSO Ensemble: free lunch time concert LSO
DESCRIPTION:\r\n\r\n\r\nWant to know more about classical music but no
 t sure where to start? Make the most of your lunchbreak and enjoy a fr
 ee, 45-minute informal concert at LSO St Luke’s. Our presenter Rache
 l Leach talks about the works and the instruments, and there are oppor
 tunities to ask questions of Rachel and the musicians.\r\nLSO string p
 layers perform Frank Bridge's Phantasie in C minor, and Astor Piazzol
 la's Oblivion and Primavera (Spring) Porteno, arr Bragato.\r\nEach 
 concert begins at 12.30pm and lasts for 45 minutes. The Café is open 
 for light refreshments before the concert from 11.30am and after the c
 oncert until 2pm.\r\nTo avoid disappointment please arrive in good tim
 e to get a seat, as these concerts are popular!\r\nFree entry, just tu
 rn up!\r\n\r\nLandscapes\r\nBRAHMS Trio for Piano, Horn and Violin\r\n
 Naoko Keatley violinAngela Barnes hornZeynep Özsuca pianoRachel Le
 ach presenter\r\n\r\n\r\n\r\n\r\nFor more information or group bookin
 gs, call Cressida Griffith on 020 7382 2512 or email cressida.griffit
 h@lso.co.uk\r\n\r\n\r\n\r\nSuitable for over-5s\r\n\r\n\r\nPlease note
  that finish times are approximate and subject to change.\r\nGenerousl
 y supported by LSO Friends.\r\n\r\nALSO:\r\n11.15–11.45am Relaxed P
 erformanceOpen to everyone, people with autism, sensory and communicat
 ion impairments and learning disabilities. Contact celia.wynnewillson
 @lso.co.uk to find out more.\r\n\r\n\r\n\r\n\r\n\r\nThis concert will
  be live streamed on the LSO's You Tube channel.\r\n\r\n\n\nFor more 
 information visit http://www.goldenlaneestate.org/events/lso-ensemble-
 free-lunch-time-concert-lso-1
DTSTART:20181123T123000Z
DTEND:20181123T131500Z
CATEGORIES:free, concert
LOCATION:Jerwood Hall, LSO St Lukes
WEBSITE:https://lso.co.uk/whats-on
URL:https://lso.co.uk/whats-on
CONTACT:
ORGANIZER:
ATTACH;FMTTYPE="image/jpeg":http://storage.ning.com/topology/rest/1.0/
 file/get/2571587141?profile=original
ATTENDEE;ROLE=REQ-PARTICIPANT;PARTSTAT=ACCEPTED;RSVP=TRUE;CN="GLE Webs
 ite Comms Team":http://www.goldenlaneestate.org/profile/GLEComms
END:VEVENT
END:VCALENDAR
