BEGIN:VCALENDAR
PRODID:NingEventWidget-v1
VERSION:2.0
METHOD:PUBLISH
BEGIN:VEVENT
UID:2323372:Event:43670
DTSTAMP:20260424T225724Z
SUMMARY:Managing Stress at Home and at Work
DESCRIPTION:Life Coach Mei Wah Yung will be giving a practical present
 ation on how to relax and enjoy life to the full\n\nFree.  Booking ad
 visable in case of a change to the programme\n\nFor more information v
 isit http://www.goldenlaneestate.org/events/managing-stress-at-home-an
 d-at-work
DTSTART:20150212T123000Z
DTEND:20150212T133000Z
CATEGORIES:health, talk
LOCATION:Barbican Library, Barbican Centre
WEBSITE:
URL:
CONTACT:02076380569
ORGANIZER;CN="Geraldine Pote":http://www.goldenlaneestate.org/profile/
 GeraldinePote
ATTACH;FMTTYPE="image/jpeg":
ATTENDEE;ROLE=REQ-PARTICIPANT;PARTSTAT=ACCEPTED;RSVP=TRUE;CN="Geraldin
 e Pote":http://www.goldenlaneestate.org/profile/GeraldinePote
END:VEVENT
END:VCALENDAR
