BEGIN:VCALENDAR
PRODID:NingEventWidget-v1
VERSION:2.0
METHOD:PUBLISH
BEGIN:VEVENT
UID:2323372:Event:45452
DTSTAMP:20260424T082208Z
SUMMARY:Mindfulness meditation with Robert Mitchell
DESCRIPTION:Robert will be talking about how to bounce back from the s
 tresses of modern life by using mindfulness to develop emotional resil
 ience\nAll welcome\n\nFree but booking advisable\n\nFor more informati
 on visit http://www.goldenlaneestate.org/events/mindfulness-meditation
 -with-robert-mitchell
DTSTART:20150521T113000Z
DTEND:20150521T123000Z
CATEGORIES:health, talk
LOCATION:Barbican Library
WEBSITE:http://www.cityoflondon.gov.uk/libraries
URL:http://www.cityoflondon.gov.uk/libraries
CONTACT:02076380569
ORGANIZER;CN="Geraldine Pote":http://www.goldenlaneestate.org/profile/
 GeraldinePote
ATTACH;FMTTYPE="image/jpeg":
ATTENDEE;ROLE=REQ-PARTICIPANT;PARTSTAT=ACCEPTED;RSVP=TRUE;CN="Geraldin
 e Pote":http://www.goldenlaneestate.org/profile/GeraldinePote
END:VEVENT
END:VCALENDAR
