BEGIN:VCALENDAR
PRODID:NingEventWidget-v1
VERSION:2.0
METHOD:PUBLISH
BEGIN:VEVENT
UID:2323372:Event:40734
DTSTAMP:20260424T124613Z
SUMMARY:Monthly City Carers’Support Group Meeting
DESCRIPTION:Invitation To Unpaid, Informal City Carers \nYou are invit
 ed to the monthly City carers’ support group meeting at 11am on the 
 second Tuesday each month.\nVenue - Tudor Rose Court, 35 Fann Street, 
 Barbican, EC2Y 8DY\nThe next meeting will be by:-\n6th May  by Emma W
 illiams from the  Relatives & Residents association addressing :\n\nc
 oncerns about your loved one moving into a residential home\n\nconcern
 s about the care received in hospitals and care homes\n\n\n\n\n\n\nFor
  more information visit http://www.goldenlaneestate.org/events/monthly
 -city-carers-support-group-meeting-1
DTSTART:20140506T100000Z
DTEND:20140506T113000Z
CATEGORIES:city, "carers’", support, group, meeting
LOCATION:Tudor Rose Court
WEBSITE:http://www.eldersvoice.org.uk
URL:http://www.eldersvoice.org.uk
CONTACT:020 8206 7505
ORGANIZER;CN="Elaine Fletcher":http://www.goldenlaneestate.org/profile
 /ElaineFletcher
ATTACH;FMTTYPE="image/jpeg":
ATTENDEE;ROLE=REQ-PARTICIPANT;PARTSTAT=ACCEPTED;RSVP=TRUE;CN="Elaine F
 letcher":http://www.goldenlaneestate.org/profile/ElaineFletcher
END:VEVENT
END:VCALENDAR
