BEGIN:VCALENDAR
PRODID:NingEventWidget-v1
VERSION:2.0
METHOD:PUBLISH
BEGIN:VEVENT
UID:2323372:Event:36259
DTSTAMP:20260424T123220Z
SUMMARY:Monthly City carers’ support group meeting
DESCRIPTION:Invitation To Unpaid, Informal City Carers\nYou are invite
 d to the monthly City carers’ support group meeting at 11am on the s
 econd Tuesday each month.\nVenue - Tudor Rose Court, 35 Fann Street, B
 arbican, EC2Y 8DY\nProfessional experts will be invited each month to 
 speak about requested topics:-\n The next meeting will address:\n10th
  September – Parkinson’s Disease by Angela Nullmeyers\n \n\nFor m
 ore information visit http://www.goldenlaneestate.org/events/monthly-c
 ity-carers-support-group-meeting
DTSTART:20130910T100000Z
DTEND:20130910T113000Z
CATEGORIES:monthly, city, "carers’", support, group, meeting
LOCATION:Tudor Rose Court
WEBSITE:http://: www.eldersvoice.org.uk/whatwedo/citycarersservice.php
URL:http://: www.eldersvoice.org.uk/whatwedo/citycarersservice.php
CONTACT:0208 206 7511
ORGANIZER;CN="Elaine Fletcher":http://www.goldenlaneestate.org/profile
 /ElaineFletcher
ATTACH;FMTTYPE="image/jpeg":
ATTENDEE;ROLE=REQ-PARTICIPANT;PARTSTAT=ACCEPTED;RSVP=TRUE;CN="Elaine F
 letcher":http://www.goldenlaneestate.org/profile/ElaineFletcher
END:VEVENT
END:VCALENDAR
