BEGIN:VCALENDAR
PRODID:NingEventWidget-v1
VERSION:2.0
METHOD:PUBLISH
BEGIN:VEVENT
UID:2323372:Event:54007
DTSTAMP:20260423T033332Z
SUMMARY:More Big Knitting
DESCRIPTION:Knit, natter and make money for Age UK and hats for UCH pr
 emature baby unit.\nWe have some wool, needles and patterns but if you
  have any leftover wool bring it along.\n2.30 to 4.00 and in the eveni
 ng 7.00 to 8.30\n\nFor more information visit http://www.goldenlaneest
 ate.org/events/more-big-knitting
DTSTART:20170124T143000Z
DTEND:20170124T203000Z
CATEGORIES:fundraiser
LOCATION:Golden Lane Community Centre
WEBSITE:
URL:
CONTACT:
ORGANIZER;CN="Sue Pearson":http://www.goldenlaneestate.org/profile/Sue
 Pearson
ATTACH;FMTTYPE="image/jpeg":
ATTENDEE;ROLE=REQ-PARTICIPANT;PARTSTAT=ACCEPTED;RSVP=TRUE;CN="Anna Par
 kinson":http://www.goldenlaneestate.org/profile/AnnaParkinson
ATTENDEE;ROLE=REQ-PARTICIPANT;PARTSTAT=ACCEPTED;RSVP=TRUE;CN="Sue Pear
 son":http://www.goldenlaneestate.org/profile/SuePearson
END:VEVENT
END:VCALENDAR
