BEGIN:VCALENDAR
PRODID:NingEventWidget-v1
VERSION:2.0
METHOD:PUBLISH
BEGIN:VEVENT
UID:2323372:Event:179214
DTSTAMP:20260426T021622Z
SUMMARY:New non-fiction evening book group - Barbican Library
DESCRIPTION:Barbican Library is starting a new non-fiction book group 
 and looking for new members to join.The book group will meet on the th
 ird Tuesday of the month at 6pm and starts on 21st October. There will
  be friendly discussion of a different non-fiction title each month an
 d the books will cover a range of topics (biographies, history, scienc
 e etc). The library will provide copies of the book for the group to b
 orrow.If you are interested in joining this book club please email ba
 rbicanlib@cityoflondon.gov.uk or ask at the library enquiry desk for 
 more information.\n\nFor more information visit http://www.goldenlanee
 state.org/events/new-non-fiction-evening-book-group-barbican-library
DTSTART:20251021T170000Z
DTEND:20251021T180000Z
CATEGORIES:book, club
LOCATION:Barbican Library
WEBSITE:https://www.cityoflondon.gov.uk/services/libraries/barbican-li
 brary
URL:https://www.cityoflondon.gov.uk/services/libraries/barbican-librar
 y
CONTACT:020 7638 0569
ORGANIZER;CN="Clare Schmitt":http://www.goldenlaneestate.org/profile/C
 lareSchmitt
ATTACH;FMTTYPE="image/jpeg":
ATTENDEE;ROLE=REQ-PARTICIPANT;PARTSTAT=ACCEPTED;RSVP=TRUE;CN="Clare Sc
 hmitt":http://www.goldenlaneestate.org/profile/ClareSchmitt
END:VEVENT
END:VCALENDAR
