BEGIN:VCALENDAR
PRODID:NingEventWidget-v1
VERSION:2.0
METHOD:PUBLISH
BEGIN:VEVENT
UID:2323372:Event:73997
DTSTAMP:20260422T094027Z
SUMMARY:SOLD OUT NO MORE TICKETS LEFT - music hall cockney sing along 
 sat 1feb 6pm
DESCRIPTION:\n \nFree event, though a donations towards the cost of t
 he entertainment/meal is welcome. (Bring a bottle)\n\n\n\nFor more inf
 ormation visit http://www.goldenlaneestate.org/events/old-time-music-h
 all-cockney-sing-along-sat-1feb-6pm
DTSTART:20200201T180000Z
DTEND:20200201T210000Z
CATEGORIES:community
LOCATION:St Botolph without Aldgate
WEBSITE:http://www.stbotolphs.org.uk
URL:http://www.stbotolphs.org.uk
CONTACT:
ORGANIZER:jacqui
ATTACH;FMTTYPE="image/jpeg":
ATTENDEE;ROLE=REQ-PARTICIPANT;PARTSTAT=ACCEPTED;RSVP=TRUE;CN="Friends 
 of Fortune St Park":http://www.goldenlaneestate.org/profile/FriendsofF
 ortuneStPark
END:VEVENT
END:VCALENDAR
