BEGIN:VCALENDAR
PRODID:NingEventWidget-v1
VERSION:2.0
METHOD:PUBLISH
BEGIN:VEVENT
UID:2323372:Event:36850
DTSTAMP:20260425T164111Z
SUMMARY:Only words - do lyrics matter?
DESCRIPTION:Free drop-in debate at Barbican Library - part of the Batt
 le of Ideas in conjuction with the Barbican Centre and The Institute o
 f Ideas.\nShould we celebrate lyrics as the nearest some get to poetry
  or do they get in the way of emotional range?\n\nFor more information
  visit http://www.goldenlaneestate.org/events/only-words-do-lyrics-mat
 ter
DTSTART:20131019T123000Z
DTEND:20131019T143000Z
CATEGORIES:debate
LOCATION:Barbican Library
WEBSITE:
URL:
CONTACT:02076380569
ORGANIZER;CN="Geraldine Pote":http://www.goldenlaneestate.org/profile/
 GeraldinePote
ATTACH;FMTTYPE="image/jpeg":
ATTENDEE;ROLE=REQ-PARTICIPANT;PARTSTAT=ACCEPTED;RSVP=TRUE;CN="Geraldin
 e Pote":http://www.goldenlaneestate.org/profile/GeraldinePote
END:VEVENT
END:VCALENDAR
