BEGIN:VCALENDAR
PRODID:NingEventWidget-v1
VERSION:2.0
METHOD:PUBLISH
BEGIN:VEVENT
UID:2323372:Event:71871
DTSTAMP:20260422T022158Z
SUMMARY:Open Gardens
DESCRIPTION:The opportunities to visit our lovely gardens are rare, as
  they have been created especially as a peaceful haven for the residen
 ts who live in the almshouse here.  We are therefore delighted to ann
 ounce that, due to very popular demand, we are opening them for a mont
 hly series of Open Garden evenings.  Join us for a relaxed evening wh
 en you will be free to walk amongst the gardens on these non-guided ev
 ents, with the opportunity to enjoy an informal BBQ and bar.  Discove
 r this beautifully planted oasis  on our stunning seven acre site. (F
 ood and drink not included in ticket price)\n\nFor more information vi
 sit http://www.goldenlaneestate.org/events/open-gardens-1
DTSTART:20190815T163000Z
DTEND:20190815T193000Z
CATEGORIES:open, gardens
LOCATION:The Charterhouse
WEBSITE:http://www.thecharterhouse.org/visit-us/whats-on/
URL:http://www.thecharterhouse.org/visit-us/whats-on/
CONTACT:02038188873
ORGANIZER;CN="Charlotte Borger":http://www.goldenlaneestate.org/profil
 e/CharlotteBorger
ATTACH;FMTTYPE="image/jpeg":https://storage.ning.com/topology/rest/1.0
 /file/get/3335318245?profile=original
ATTENDEE;ROLE=REQ-PARTICIPANT;PARTSTAT=ACCEPTED;RSVP=TRUE;CN="Charlott
 e Borger":http://www.goldenlaneestate.org/profile/CharlotteBorger
END:VEVENT
END:VCALENDAR
