BEGIN:VCALENDAR
PRODID:NingEventWidget-v1
VERSION:2.0
METHOD:PUBLISH
BEGIN:VEVENT
UID:2323372:Event:72462
DTSTAMP:20260422T015640Z
SUMMARY:Open House: Great Arthur House roof garden
DESCRIPTION:\r\nAs part of London Open House 2019 Great Arthur House R
 oof Garden will be open to residents on Saturday and to Open House vi
 sitors and residents on the Sunday.\r\nPlease come to the Community Ce
 ntre to register for all events.\r\nRoof Garden\r\nTickets for Roof Ga
 rden \r\nvisits are now sold out online. However, there are still spa
 ces for residents who would like to put their names down on the list h
 eld in the Estate Office. \r\nWalking Tours \r\nThere will be guided
  walking tours around the estate at ground level. These do not need to
  be booked in advance. \r\nCafe The Cafe in the Community Centre will
  also be open on both days from 11am.\r\nTales of Cripplegate\r\nIntri
 gued by what's under the concrete of the Golden Lane and Barbican Esta
 tes?  Join Tales of Cripplegate at Golden Lane this weekend, and see 
 a photographic exhibition by Ancestreemakers and A London Inheritance 
 about the area's past.\r\nTales of Cripplegate is a crowdsourced commu
 nity history project that is open to everyone. Over the coming months 
 and years, we will be building a sense of who lived and worked here, a
 nd try to understand what life might have been like over the centuries
 .\r\nCome and talk to us about the project over the weekend, and get i
 nvolved.  \r\nSaturday 3pm-5pm and Sunday 11am-5pm in the Community C
 entre.\r\n\r\n\n\nFor more information visit http://www.goldenlaneesta
 te.org/events/open-house-great-arthur-house-roof-garden
DTSTART:20190921T100000Z
DTEND:20190922T160000Z
CATEGORIES:tours
LOCATION:Golden Lane Community Centre
WEBSITE:
URL:
CONTACT:
ORGANIZER:
ATTACH;FMTTYPE="image/jpeg":
ATTENDEE;ROLE=REQ-PARTICIPANT;PARTSTAT=ACCEPTED;RSVP=TRUE;CN="GLE Webs
 ite Comms Team":http://www.goldenlaneestate.org/profile/GLEComms
END:VEVENT
END:VCALENDAR
