BEGIN:VCALENDAR
PRODID:NingEventWidget-v1
VERSION:2.0
METHOD:PUBLISH
BEGIN:VEVENT
UID:2323372:Event:179505
DTSTAMP:20260426T043950Z
SUMMARY:Patient Panel with Together Better and new Befriending Service
DESCRIPTION:Join us for our Patient Panel with Yasmin Kauser and Ragin
 i Khurana from Together Better and the new befriending service run by 
 Volunteer Centre Hackney. They will be talking about the great service
 s they run, what is available for you and how you can join.Weâ€™ll be 
 at the Golden Lane Community Centre at 10am to 11:30am on Friday, 5thÂ
  December.Â Â Register:Â hereÂ \n\nFor more information visit http://w
 ww.goldenlaneestate.org/events/patient-panel-with-together-better-and-
 new-befriending-service
DTSTART:20251205T100000Z
DTEND:20251205T113000Z
CATEGORIES:patient, panel
LOCATION:Golden Lane Community Centre
WEBSITE:
URL:
CONTACT:
ORGANIZER;CN="Rachel Cleave":http://www.goldenlaneestate.org/profile/R
 achelCleave
ATTACH;FMTTYPE="image/jpeg":https://storage.ning.com/topology/rest/1.0
 /file/get/31000822295?profile=original
ATTENDEE;ROLE=REQ-PARTICIPANT;PARTSTAT=ACCEPTED;RSVP=TRUE;CN="Rachel C
 leave":http://www.goldenlaneestate.org/profile/RachelCleave
END:VEVENT
END:VCALENDAR
