BEGIN:VCALENDAR
PRODID:NingEventWidget-v1
VERSION:2.0
METHOD:PUBLISH
BEGIN:VEVENT
UID:2323372:Event:74236
DTSTAMP:20260420T215939Z
SUMMARY:Peace of Mind
DESCRIPTION:Take shelter from the storm - whether it's the weather or 
 just life in general - and experience 'Peace of Mind' - an immersive s
 oundscape of music, song and sounds. Perfect for some calm meditation 
 and mindfulness.\nFREE in the Charterhouse Chapel.\n\nFor more informa
 tion visit http://www.goldenlaneestate.org/events/peace-of-mind-5
DTSTART:20200211T110000Z
DTEND:20200211T233000Z
CATEGORIES:soundscape
LOCATION:The Charterhouse
WEBSITE:http://www.thecharterhouse.org/visit-us/whats-on/
URL:http://www.thecharterhouse.org/visit-us/whats-on/
CONTACT:02038188873
ORGANIZER;CN="Charlotte Borger":http://www.goldenlaneestate.org/profil
 e/CharlotteBorger
ATTACH;FMTTYPE="image/jpeg":https://storage.ning.com/topology/rest/1.0
 /file/get/3856342043?profile=original
ATTENDEE;ROLE=REQ-PARTICIPANT;PARTSTAT=ACCEPTED;RSVP=TRUE;CN="Charlott
 e Borger":http://www.goldenlaneestate.org/profile/CharlotteBorger
END:VEVENT
END:VCALENDAR
