BEGIN:VCALENDAR
PRODID:NingEventWidget-v1
VERSION:2.0
METHOD:PUBLISH
BEGIN:VEVENT
UID:2323372:Event:46123
DTSTAMP:20260424T070259Z
SUMMARY:Restart Pop-Up: repair clinic for your broken electronics 
DESCRIPTION:Don't throw your broken electronics away! Join The Restart
  Project for their Restart Pop-Up, a participatory repair clinic where
  you will learn how to troubleshoot, disassemble and hopefully repair 
 gadgets such as laptops, headphones, radios, smartphones and more. Bri
 ng along your broken gadget or drop in for advice. First come first se
 rved!\nPlease bring spare parts if needed, e.g new screen for cracked 
 phone, they are easy to find online.\nPlease note we are not able to f
 ix iPads or other tablets.\n\nEach repair slot lasts up to 30 minutes 
 during which you can have fun learning why your device is no longer wo
 rking and make progress towards getting it repaired. You will be taugh
 t how to do simple repairs while for more complicated ones you'll trou
 bleshoot to learn whether a repair is feasible.\nPlease note there is 
 no guarantee we will be able to successfully repair your gadgets\n\nFo
 r more information visit http://www.goldenlaneestate.org/events/restar
 t-pop-up-repair-clinic-for-your-broken-electronics-1
DTSTART:20150622T163000Z
DTEND:20150622T193000Z
CATEGORIES:electronics, repair, workshop
LOCATION: Lilac Room, Barbican Estate Office, 3 Lauderdale Place
WEBSITE:
URL:
CONTACT:02073324968
ORGANIZER;CN="Serena Ceccarelli":http://www.goldenlaneestate.org/profi
 le/SerenaCeccarelli
ATTACH;FMTTYPE="image/jpeg":
ATTENDEE;ROLE=REQ-PARTICIPANT;PARTSTAT=ACCEPTED;RSVP=TRUE;CN="Serena C
 eccarelli":http://www.goldenlaneestate.org/profile/SerenaCeccarelli
END:VEVENT
END:VCALENDAR
