BEGIN:VCALENDAR
PRODID:NingEventWidget-v1
VERSION:2.0
METHOD:PUBLISH
BEGIN:VEVENT
UID:2323372:Event:107762
DTSTAMP:20260421T071831Z
SUMMARY:Rivers of London - free illustrated talk
DESCRIPTION:Ben Aaronovitch’s best selling novels are part Urban Fan
 tasy part Police Procedural and this virtual walk by City Guide Jill F
 inch is based on the first novel set in Covent Garden.\nThe 'Rivers of
  London' books are an engaging mix of police procedure, London folklor
 e and history and humour. Whether you've read them or not, this illust
 rated talk will be an entertaining trip around London.\n\nFor more inf
 ormation visit http://www.goldenlaneestate.org/events/rivers-of-london
 -free-illustrated-talk
DTSTART:20201125T123000Z
DTEND:20201125T133000Z
CATEGORIES:free, online
LOCATION:Zoom
WEBSITE:
URL:
CONTACT:
ORGANIZER;CN="Helen Tremaine":http://www.goldenlaneestate.org/profile/
 HelenTremaine
ATTACH;FMTTYPE="image/jpeg":https://storage.ning.com/topology/rest/1.0
 /file/get/8183683887?profile=original
ATTENDEE;ROLE=REQ-PARTICIPANT;PARTSTAT=ACCEPTED;RSVP=TRUE;CN="Helen Tr
 emaine":http://www.goldenlaneestate.org/profile/HelenTremaine
END:VEVENT
END:VCALENDAR
