BEGIN:VCALENDAR
PRODID:NingEventWidget-v1
VERSION:2.0
METHOD:PUBLISH
BEGIN:VEVENT
UID:2323372:Event:56689
DTSTAMP:20260419T162818Z
SUMMARY:Safeguarding residents: counter-terrorism, counter-fraud and o
 ther safeguards
DESCRIPTION:City of London Police\nCommunities and Partnerships Superi
 ntendent Helen Isaac and her colleagues from the City of London Police
  will talk about how the police are countering terrorism and fraud, th
 e latest prevention advice for residents, and how to help the police p
 revent these crimes  Tuesday, 11 July 2017 at 7.30 pm Main Hall, City 
 of London School for Girls, To be followed by wine, soft drinks and an
  opportunity for informal chat All residents in the north west of the 
 City are welcome\nOrganised by the Barbican Association\n\nFor more in
 formation visit http://www.goldenlaneestate.org/events/safeguarding-re
 sidents-counter-terrorism-counter-fraud-and-other
DTSTART:20170711T183000Z
DTEND:20170711T203000Z
CATEGORIES:public, meeting, for, residents
LOCATION:Barbican
WEBSITE:
URL:
CONTACT:
ORGANIZER:Barbican Association
ATTACH;FMTTYPE="image/jpeg":
ATTENDEE;ROLE=REQ-PARTICIPANT;PARTSTAT=ACCEPTED;RSVP=TRUE;CN="Karen Jo
 hnson":http://www.goldenlaneestate.org/profile/KarenJohnson
ATTENDEE;ROLE=REQ-PARTICIPANT;PARTSTAT=ACCEPTED;RSVP=TRUE;CN="Jane Smi
 th":http://www.goldenlaneestate.org/profile/JaneSmith
END:VEVENT
END:VCALENDAR
