BEGIN:VCALENDAR
PRODID:NingEventWidget-v1
VERSION:2.0
METHOD:PUBLISH
BEGIN:VEVENT
UID:2323372:Event:70339
DTSTAMP:20260422T040237Z
SUMMARY:Save the date Fortune Street Park Community Fun Day Saturday 6
 th July
DESCRIPTION:\n\nFor more information visit http://www.goldenlaneestate
 .org/events/save-the-date-fortune-street-osrk-community-fun-day-saturd
 ay-6th
DTSTART:20190706T110000Z
DTEND:20190706T160000Z
CATEGORIES:community, fun, day
LOCATION:Fortune Street Park
WEBSITE:http://www.Fortunestreetpark.com
URL:http://www.Fortunestreetpark.com
CONTACT:
ORGANIZER;CN="Friends of Fortune St Park":http://www.goldenlaneestate.
 org/profile/FriendsofFortuneStPark
ATTACH;FMTTYPE="image/jpeg":
ATTENDEE;ROLE=REQ-PARTICIPANT;PARTSTAT=ACCEPTED;RSVP=TRUE;CN="Friends 
 of Fortune St Park":http://www.goldenlaneestate.org/profile/FriendsofF
 ortuneStPark
ATTENDEE;ROLE=REQ-PARTICIPANT;PARTSTAT=ACCEPTED;RSVP=TRUE;CN=Jax:http:
 //www.goldenlaneestate.org/profile/jacqui
END:VEVENT
END:VCALENDAR
