BEGIN:VCALENDAR
PRODID:NingEventWidget-v1
VERSION:2.0
METHOD:PUBLISH
BEGIN:VEVENT
UID:2323372:Event:64395
DTSTAMP:20260419T185716Z
SUMMARY:Seasonal Vegetable Cookery Class
DESCRIPTION:Each class focuses on a particular seasonal vegetable and 
 the group makes a variety of delicious dishes out of it and then has a
  shared lunch together. Past classes have focused on beetroots, auberg
 ines, peas, parsnips, turnips and onions. There is no theme for Aprilâ
 €™s class yet so please get in touch if you have any requests!\nThe cl
 ass costs only Â£2.50 including lunch. Places must be booked in advanc
 e at St Lukeâ€™s reception.\n\nFor more information visit http://www.g
 oldenlaneestate.org/events/seasonal-vegetable-cookery-class
DTSTART:20180425T100000Z
DTEND:20180425T120000Z
CATEGORIES:cooking, activity
LOCATION:St Lukes Community Centre
WEBSITE:http://www.slpt.org.uk
URL:http://www.slpt.org.uk
CONTACT:020 7549 8197 / 079 835 080 76
ORGANIZER;CN="Growing Connections at St Lukes":http://www.goldenlanees
 tate.org/profile/GrowingConnections
ATTACH;FMTTYPE="image/jpeg":
ATTENDEE;ROLE=REQ-PARTICIPANT;PARTSTAT=ACCEPTED;RSVP=TRUE;CN="Growing 
 Connections at St Lukes":http://www.goldenlaneestate.org/profile/Growi
 ngConnections
END:VEVENT
END:VCALENDAR
