BEGIN:VCALENDAR
PRODID:NingEventWidget-v1
VERSION:2.0
METHOD:PUBLISH
BEGIN:VEVENT
UID:2323372:Event:72037
DTSTAMP:20260422T020447Z
SUMMARY:Solar Panel Making Workshop for 11 to 16 year olds
DESCRIPTION:\n\nFor more information visit http://www.goldenlaneestate
 .org/events/solar-panel-making-workshop-for-11-to-16-year-olds
DTSTART:20190730T090000Z
DTEND:20190730T160000Z
CATEGORIES:workshop
LOCATION:Artzan Street Library
WEBSITE:
URL:
CONTACT:
ORGANIZER:
ATTACH;FMTTYPE="image/jpeg":
ATTENDEE;ROLE=REQ-PARTICIPANT;PARTSTAT=ACCEPTED;RSVP=TRUE;CN="GLE Webs
 ite Comms Team":http://www.goldenlaneestate.org/profile/GLEComms
END:VEVENT
END:VCALENDAR
