BEGIN:VCALENDAR
PRODID:NingEventWidget-v1
VERSION:2.0
METHOD:PUBLISH
BEGIN:VEVENT
UID:2323372:Event:63407
DTSTAMP:20260420T081857Z
SUMMARY:Spectres of Modernism – Artists Against Overdevelopment
DESCRIPTION:An evening of performances, readings and screenings to con
 solidate the protest at Bowater House against Taylor Wimpey’s Denize
 n Development. With the participation of: Mark Aerial Waller, Stewart 
 Home, Lloyd Corporation in collaboration with Nina Wakeford, Tom McCar
 thy, Anna Minton, Katrina Palmer, Chris Petit, Esther Planas, Bill Par
 ry-Davies, Iain Sinclair, Claire Louise Staunton and students from Gol
 dsmiths MA Visual Sociology.  There will be an exhibition and sale of 
 artwork related to the protest. Including contributions by Anthony Aue
 rbach, Rut Blees Luxemburg, Zoe Brown, Justin Coombes, Sarah Dobai, Ch
 ris Dorley-Brown, Katherine Fawssett and Eva Stenram. All proceeds fr
 om the sale will go towards the campaign.  Further details will follow
 .  https://spectresofmodernism.wordpress.com/\n\nFor more information 
 visit http://www.goldenlaneestate.org/events/spectres-of-modernism-art
 ists-against-overdevelopment
DTSTART:20180202T183000Z
DTEND:20180202T213000Z
CATEGORIES:performance, exhibition, sale
LOCATION:Raven Row
WEBSITE:
URL:
CONTACT:
ORGANIZER:
ATTACH;FMTTYPE="image/jpeg":http://storage.ning.com/topology/rest/1.0/
 file/get/2571585977?profile=original
ATTENDEE;ROLE=REQ-PARTICIPANT;PARTSTAT=ACCEPTED;RSVP=TRUE;CN="GLE Webs
 ite Comms Team":http://www.goldenlaneestate.org/profile/GLEComms
END:VEVENT
END:VCALENDAR
