BEGIN:VCALENDAR
PRODID:NingEventWidget-v1
VERSION:2.0
METHOD:PUBLISH
BEGIN:VEVENT
UID:2323372:Event:64501
DTSTAMP:20260420T001223Z
SUMMARY:Spend Time Credits at Kensington Palace
DESCRIPTION:\r\nTime Credit members can book for a morning or afternoo
 n session - link here\r\nRead more about Time Credits - how to earn t
 hem, how to spend them.\r\n\n\nFor more information visit http://www.g
 oldenlaneestate.org/events/spend-time-credits-at-kensington-palace
DTSTART:20180502T100000Z
DTEND:20180502T150000Z
CATEGORIES:time, credit
LOCATION:Kensington Palace
WEBSITE:http://www.justaddspice.org/
URL:http://www.justaddspice.org/
CONTACT:
ORGANIZER:
ATTACH;FMTTYPE="image/jpeg":http://storage.ning.com/topology/rest/1.0/
 file/get/2571586902?profile=original
ATTENDEE;ROLE=REQ-PARTICIPANT;PARTSTAT=ACCEPTED;RSVP=TRUE;CN="GLE Webs
 ite Comms Team":http://www.goldenlaneestate.org/profile/GLEComms
END:VEVENT
END:VCALENDAR
