BEGIN:VCALENDAR
PRODID:NingEventWidget-v1
VERSION:2.0
METHOD:PUBLISH
BEGIN:VEVENT
UID:2323372:Event:64311
DTSTAMP:20260419T171234Z
SUMMARY:St Luke's Gardening Group
DESCRIPTION:Pruning evergreens\n\nFor more information visit http://ww
 w.goldenlaneestate.org/events/st-luke-s-gardening-group-3
DTSTART:20180424T130000Z
DTEND:20180424T143000Z
CATEGORIES:gardening, activity
LOCATION:St Lukes Community Centre
WEBSITE:http://www.slpt.org.uk
URL:http://www.slpt.org.uk
CONTACT:020 7549 8197
ORGANIZER;CN="Growing Connections at St Lukes":http://www.goldenlanees
 tate.org/profile/GrowingConnections
ATTACH;FMTTYPE="image/jpeg":
ATTENDEE;ROLE=REQ-PARTICIPANT;PARTSTAT=ACCEPTED;RSVP=TRUE;CN="Growing 
 Connections at St Lukes":http://www.goldenlaneestate.org/profile/Growi
 ngConnections
END:VEVENT
END:VCALENDAR
