BEGIN:VCALENDAR
PRODID:NingEventWidget-v1
VERSION:2.0
METHOD:PUBLISH
BEGIN:VEVENT
UID:2323372:Event:64482
DTSTAMP:20260419T204321Z
SUMMARY:St Lukes Food Growers
DESCRIPTION:Seedling aftercare, encouraging wildlife, natural tonics, 
 growing for flavour. Meet in the Edible Yard.\n\n\nFor more informatio
 n visit http://www.goldenlaneestate.org/events/st-lukes-food-growers-1
DTSTART:20180426T130000Z
DTEND:20180426T143000Z
CATEGORIES:gardening, activity
LOCATION:St Lukes Community Centre
WEBSITE:http://www.slpt.org.uk
URL:http://www.slpt.org.uk
CONTACT:020 7549 8197 / 079 835 080 76
ORGANIZER;CN="Growing Connections at St Lukes":http://www.goldenlanees
 tate.org/profile/GrowingConnections
ATTACH;FMTTYPE="image/jpeg":
ATTENDEE;ROLE=REQ-PARTICIPANT;PARTSTAT=ACCEPTED;RSVP=TRUE;CN="Growing 
 Connections at St Lukes":http://www.goldenlaneestate.org/profile/Growi
 ngConnections
END:VEVENT
END:VCALENDAR
