BEGIN:VCALENDAR
PRODID:NingEventWidget-v1
VERSION:2.0
METHOD:PUBLISH
BEGIN:VEVENT
UID:2323372:Event:72683
DTSTAMP:20260420T115809Z
SUMMARY:The Artist of our Freedom â€“ Ben Okri - Door 6.30 for refresh
 ments
DESCRIPTION:Join Ben Okri as he reads from his work and discusses madn
 ess and reason, freedom and living with Lamis Bayar.\nÂ \nBen Okri is 
 a poet, novelist, and playwright whose works have been translated into
  26 languages and whose novel The Famished Road won the Booker Prize i
 n 1991. His latest works are the novel The Freedom Artist and a collec
 tion of short stories, â€˜A prayer for the Livingâ€™.\nÂ \nLamis Bayar
  is the founder of Dragon CafÃ© in the City which welcomes anyone feel
 ing the pressures of work or life in and around the City of London.Â Â
  Â Â Â Â Â Â Â Â Â Â Â Â Â Â Â Â Â Â \n\nFor more information visit ht
 tp://www.goldenlaneestate.org/events/the-artist-of-our-freedom-ben-okr
 i-door-6-30-for-refreshments
DTSTART:20191023T180000Z
DTEND:20191023T190000Z
CATEGORIES:free, just, turn, up
LOCATION:Barbican Library
WEBSITE:
URL:
CONTACT:
ORGANIZER;CN="Helen Tremaine":http://www.goldenlaneestate.org/profile/
 HelenTremaine
ATTACH;FMTTYPE="image/jpeg":https://storage.ning.com/topology/rest/1.0
 /file/get/3614314667?profile=original
ATTENDEE;ROLE=REQ-PARTICIPANT;PARTSTAT=ACCEPTED;RSVP=TRUE;CN="Helen Tr
 emaine":http://www.goldenlaneestate.org/profile/HelenTremaine
END:VEVENT
END:VCALENDAR
