BEGIN:VCALENDAR
PRODID:NingEventWidget-v1
VERSION:2.0
METHOD:PUBLISH
BEGIN:VEVENT
UID:2323372:Event:56075
DTSTAMP:20260420T141800Z
SUMMARY:The Medieval Precinct of St Pauls
DESCRIPTION:Wren’s St Paul’s Cathedral stands on Ludgate Hill in t
 he heart of our 21st Century City, with offices, shops and restaurants
  almost in touching distance. Its mediaeval predecessor was very diffe
 rent. Like cathedrals up and down the country it stood within a gated 
 walled precinct (within the old walled city) - in many ways a world of
  its own. Jill Finch’s illustrated talk, part of London History Day,
  aims to recreate that precinct. A Cathedral surrounded by buildings, 
 a churchyard and even a prison.\n\nFor more information visit http://w
 ww.goldenlaneestate.org/events/the-medieval-precinct-of-st-pauls
DTSTART:20170531T113000Z
DTEND:20170531T123000Z
CATEGORIES:free, talk, to, celebrate, london, history, day
LOCATION:Barbican Library, Barbican Centre
WEBSITE:
URL:
CONTACT:
ORGANIZER;CN="Helen Tremaine":http://www.goldenlaneestate.org/profile/
 HelenTremaine
ATTACH;FMTTYPE="image/jpeg":http://storage.ning.com/topology/rest/1.0/
 file/get/2571585916?profile=original
ATTENDEE;ROLE=REQ-PARTICIPANT;PARTSTAT=ACCEPTED;RSVP=TRUE;CN="Helen Tr
 emaine":http://www.goldenlaneestate.org/profile/HelenTremaine
END:VEVENT
END:VCALENDAR
