BEGIN:VCALENDAR
PRODID:NingEventWidget-v1
VERSION:2.0
METHOD:PUBLISH
BEGIN:VEVENT
UID:2323372:Event:166521
DTSTAMP:20260419T141922Z
SUMMARY:The story of almshouses through history, and their relevance t
 oday
DESCRIPTION:The latest in our series of monthly online lectures from t
 he Charterhouse takes a historic and current look at almshouses - how 
 they are run, who they are for, and how they are still relevant today 
 when there is such a shortage of affordable housing.Do join us on Thur
 sday 17th June when we are delighted that Elizabeth Fathi, Chairman of
  the Almshouse Association, will be presenting \"Almshouses - from Ath
 elstan to the 21st century and beyond\"You can book your place here h
 ttps://thecharterhouse.digitickets.co. ... tID=33835& (with a donatio
 n if you can)\n\nFor more information visit http://www.goldenlaneestat
 e.org/events/the-story-of-almshouses-through-history-and-their-relevan
 ce-today
DTSTART:20210617T180000Z
DTEND:20210617T190000Z
CATEGORIES:online, lecture
LOCATION:online
WEBSITE:http://www.thecharterhouse.org
URL:http://www.thecharterhouse.org
CONTACT:
ORGANIZER;CN="Charlotte Borger":http://www.goldenlaneestate.org/profil
 e/CharlotteBorger
ATTACH;FMTTYPE="image/jpeg":https://storage.ning.com/topology/rest/1.0
 /file/get/9056159276?profile=original
ATTENDEE;ROLE=REQ-PARTICIPANT;PARTSTAT=ACCEPTED;RSVP=TRUE;CN="Charlott
 e Borger":http://www.goldenlaneestate.org/profile/CharlotteBorger
END:VEVENT
END:VCALENDAR
