BEGIN:VCALENDAR
PRODID:NingEventWidget-v1
VERSION:2.0
METHOD:PUBLISH
BEGIN:VEVENT
UID:2323372:Event:39166
DTSTAMP:20260424T224431Z
SUMMARY:The View From My Window Tells Me I'm Home · Film about Golden
  Lane
DESCRIPTION:My film about the Golden Lane estate:\nThe View From My Wi
 ndow Tells Me I'm Home\nwill be screening here at the Reel Islington F
 ilm Festival in Marchhttp://www.blanchepictures.com/films/viewfrommywi
 ndow.htm\nhttp://www.shu.ac.uk/research/c3ri/projects/a-view-from-my-w
 indow-tells-me-i-am-home\n\nFor more information visit http://www.gold
 enlaneestate.org/events/the-view-from-my-window-tells-me-i-m-home-film
 -about-golden-lane
DTSTART:20140301T110000Z
DTEND:20140301T120000Z
CATEGORIES:film, screening, and, discussion
LOCATION:Resource for London
WEBSITE:http://www.reelislington.com/festival-2014
URL:http://www.reelislington.com/festival-2014
CONTACT:
ORGANIZER:Reel Islington Film Festival
ATTACH;FMTTYPE="image/jpeg":http://storage.ning.com/topology/rest/1.0/
 file/get/2571574010?profile=original
ATTENDEE;ROLE=REQ-PARTICIPANT;PARTSTAT=ACCEPTED;RSVP=TRUE;CN="Esther J
 ohnson":http://www.goldenlaneestate.org/profile/EstherJohnson
ATTENDEE;ROLE=REQ-PARTICIPANT;PARTSTAT=TENTATIVE;RSVP=TRUE;CN="Raymond
  Hamilton":http://www.goldenlaneestate.org/profile/RaymondHamilton
END:VEVENT
END:VCALENDAR
