BEGIN:VCALENDAR
PRODID:NingEventWidget-v1
VERSION:2.0
METHOD:PUBLISH
BEGIN:VEVENT
UID:2323372:Event:71944
DTSTAMP:20260422T015914Z
SUMMARY:Visit Kew Gardens using time credits
DESCRIPTION:Use your time credits for a day out at Kew Gardens\n\nFor 
 more information visit http://www.goldenlaneestate.org/events/visit-ke
 w-gardens-using-time-credits
DTSTART:20190814T103000Z
DTEND:20190814T110000Z
CATEGORIES:visit
LOCATION:Kew Gardens
WEBSITE:https://communitygroupkewgardenstrip.eventbrite.co. uk
URL:https://communitygroupkewgardenstrip.eventbrite.co. uk
CONTACT:
ORGANIZER;CN="Sue Pearson":http://www.goldenlaneestate.org/profile/Sue
 Pearson
ATTACH;FMTTYPE="image/jpeg":https://storage.ning.com/topology/rest/1.0
 /file/get/3389893349?profile=original
ATTENDEE;ROLE=REQ-PARTICIPANT;PARTSTAT=ACCEPTED;RSVP=TRUE;CN="Sue Pear
 son":http://www.goldenlaneestate.org/profile/SuePearson
END:VEVENT
END:VCALENDAR
