BEGIN:VCALENDAR
PRODID:NingEventWidget-v1
VERSION:2.0
METHOD:PUBLISH
BEGIN:VEVENT
UID:2323372:Event:72381
DTSTAMP:20260422T002611Z
SUMMARY:Volunteer for the British Heart Foundation
DESCRIPTION:Drop in to the Barbican Library to hear about the work of 
 the British Heart Foundation and how you can help\n\nFor more informat
 ion visit http://www.goldenlaneestate.org/events/volunteer-for-the-bri
 tish-heart-foundation
DTSTART:20190930T100000Z
DTEND:20190930T130000Z
CATEGORIES:awareness, raising
LOCATION:Barbican Library
WEBSITE:http://www.cityoflondon.gov.uk/libraries
URL:http://www.cityoflondon.gov.uk/libraries
CONTACT:02073323853
ORGANIZER;CN="Geraldine Pote":http://www.goldenlaneestate.org/profile/
 GeraldinePote
ATTACH;FMTTYPE="image/jpeg":
ATTENDEE;ROLE=REQ-PARTICIPANT;PARTSTAT=ACCEPTED;RSVP=TRUE;CN="Geraldin
 e Pote":http://www.goldenlaneestate.org/profile/GeraldinePote
END:VEVENT
END:VCALENDAR
