BEGIN:VCALENDAR
PRODID:NingEventWidget-v1
VERSION:2.0
METHOD:PUBLISH
BEGIN:VEVENT
UID:2323372:Event:173569
DTSTAMP:20260421T085155Z
SUMMARY:Walking Netball - free taster session
DESCRIPTION:\r\nNot quite ready for Zumba but bored with doing 10k ste
 ps a day? Try walking netball - the pace will be matched to the people
  in the team. It promises to be fun!  \n\nFor more information visit
  http://www.goldenlaneestate.org/events/walking-netball-free-taster-se
 ssion
DTSTART:20230814T163000Z
DTEND:20230814T173000Z
CATEGORIES:netball
LOCATION:Golden Lane Community Centre
WEBSITE:
URL:
CONTACT:
ORGANIZER:
ATTACH;FMTTYPE="image/jpeg":https://storage.ning.com/topology/rest/1.0
 /file/get/12187892477?profile=original
ATTENDEE;ROLE=REQ-PARTICIPANT;PARTSTAT=ACCEPTED;RSVP=TRUE;CN="GLE Webs
 ite Comms Team":http://www.goldenlaneestate.org/profile/GLEComms
END:VEVENT
END:VCALENDAR
