BEGIN:VCALENDAR
PRODID:NingEventWidget-v1
VERSION:2.0
METHOD:PUBLISH
BEGIN:VEVENT
UID:2323372:Event:36145
DTSTAMP:20260425T000123Z
SUMMARY:Welcome to the Library tours
DESCRIPTION:Join a relaxed tour of the Barbican Library aimed at helpi
 ng you make the most of this precious resource on your doorstep.\nFree
 .  All welcome.  To book drop into the Library or phone 02076380569\
 n\nFor more information visit http://www.goldenlaneestate.org/events/w
 elcome-to-the-library-tours
DTSTART:20130919T120000Z
DTEND:20130919T130000Z
CATEGORIES:orientation, tour
LOCATION:Barbican
WEBSITE:http://www.cityoflondon.gov.uk/libraries
URL:http://www.cityoflondon.gov.uk/libraries
CONTACT:02076380569
ORGANIZER;CN="Geraldine Pote":http://www.goldenlaneestate.org/profile/
 GeraldinePote
ATTACH;FMTTYPE="image/jpeg":
ATTENDEE;ROLE=REQ-PARTICIPANT;PARTSTAT=ACCEPTED;RSVP=TRUE;CN="Geraldin
 e Pote":http://www.goldenlaneestate.org/profile/GeraldinePote
END:VEVENT
END:VCALENDAR
