BEGIN:VCALENDAR
PRODID:NingEventWidget-v1
VERSION:2.0
METHOD:PUBLISH
BEGIN:VEVENT
UID:2323372:Event:64528
DTSTAMP:20260425T200536Z
SUMMARY:Writing Course with Rachel Knightley
DESCRIPTION:Boost your confidence and your word-count!\nGreen Ink Writ
 ers' Gym is for everyone who wants to write. Writers of all genres and
  levels of experience will develop new material in a positive, support
 ive atmosphere. These will be informal, focused group sessions, combin
 ing inspiring exercises with quality time and space to write.\n£95 fo
 r the 4 week course.\n£18 for a trial\n\nSaturday 5,12,19 & 26 May 1.
 30pm - 3.30pm\nBook at:\nhttp://greeninkwritersgym.com/\n\nFor more in
 formation visit http://www.goldenlaneestate.org/events/writing-course-
 with-rachel-knightley
DTSTART:20180505T123000Z
DTEND:20180526T143000Z
CATEGORIES:writing, course
LOCATION:Barbican Library, Barbican Centre
WEBSITE:https://www.cityoflondon.gov.uk/services/libraries-and-archive
 s/our-libraries/Pages/Barbican-Library.aspx
URL:https://www.cityoflondon.gov.uk/services/libraries-and-archives/ou
 r-libraries/Pages/Barbican-Library.aspx
CONTACT:020 7638 0569
ORGANIZER;CN="Helen Ford":http://www.goldenlaneestate.org/profile/Hele
 nFord
ATTACH;FMTTYPE="image/jpeg":
ATTENDEE;ROLE=REQ-PARTICIPANT;PARTSTAT=ACCEPTED;RSVP=TRUE;CN="Helen Fo
 rd":http://www.goldenlaneestate.org/profile/HelenFord
END:VEVENT
END:VCALENDAR
