BEGIN:VCALENDAR
PRODID:NingEventWidget-v1
VERSION:2.0
METHOD:PUBLISH
BEGIN:VEVENT
UID:2323372:Event:70369
DTSTAMP:20260420T151836Z
SUMMARY:Your Health, Your NHS
DESCRIPTION:\nYOUR HEALTH, YOUR NHS\nWhat do new NHS plans mean locall
 y?\nCity of London residents and workers are invited to share their vi
 ews on the new NHS Long Term Plan.\nFREE BOOKINGS HERE\nThis meeting i
 s a chance for Square Mile residents to find out more about City & Hac
 kney's plans for local NHS services for the next two years, and share 
 views with other local patient representatives, senior NHS Managers & 
 GPs.\nYou will hear how your views have already shaped plans for 2019/
 20 and your opinions will help to influence longer term plans for the 
 NHS from 2021 onwards.\nTopics for discussion will include long-term a
 nd chronic illnesses, mental health, health prevention & wellbeing, ch
 ildren and young people, emergency care, local neighbourhood health se
 rvices and much more.\nPlease bring your expert-by-experience knowledg
 e and help make a difference in your community.\nFREE to attend. Refre
 shments will be served and a friendly informal environment will be pro
 vided.\nFurther reading about the NHS Long Term plan in full, summary,
  easy read and audio versions are available here.\nIf you have any ac
 cess or dietry requirements, please contact the NHS Community Voice ma
 nager Andrew Mitchelson on 0203 960 7458 or email andrew@healthwatchha
 ckney.co.uk\nNHS Community Voice is a patient-led project commissioned
  by City & Hackney Clinical Commissioning Group (CCG) and delivered by
  Healthwatch City of London & Healthwatch Hackney.\n\n\nFor more infor
 mation visit http://www.goldenlaneestate.org/events/your-health-your-n
 hs
DTSTART:20190325T113000Z
DTEND:20190325T133000Z
CATEGORIES:nhs, community, voice, public, forum
LOCATION:Golden Lane Community Centre
WEBSITE:
URL:
CONTACT:0203 9607454
ORGANIZER;CN="Andrew Mitchelson":http://www.goldenlaneestate.org/profi
 le/AndrewMitchelson
ATTACH;FMTTYPE="image/jpeg":https://storage.ning.com/topology/rest/1.0
 /file/get/1525496166?profile=original
ATTENDEE;ROLE=REQ-PARTICIPANT;PARTSTAT=ACCEPTED;RSVP=TRUE;CN="Andrew M
 itchelson":http://www.goldenlaneestate.org/profile/AndrewMitchelson
END:VEVENT
END:VCALENDAR
